BEGIN:VCALENDAR
VERSION:2.0
PRODID:-//Seven Devils Resort Club - ECPv5.16.4//NONSGML v1.0//EN
CALSCALE:GREGORIAN
METHOD:PUBLISH
X-ORIGINAL-URL:https://www.sevendevilsresortclub.com
X-WR-CALDESC:Events for Seven Devils Resort Club
REFRESH-INTERVAL;VALUE=DURATION:PT1H
X-Robots-Tag:noindex
X-PUBLISHED-TTL:PT1H
BEGIN:VTIMEZONE
TZID:America/New_York
BEGIN:DAYLIGHT
TZOFFSETFROM:-0500
TZOFFSETTO:-0400
TZNAME:EDT
DTSTART:20250309T070000
END:DAYLIGHT
BEGIN:STANDARD
TZOFFSETFROM:-0400
TZOFFSETTO:-0500
TZNAME:EST
DTSTART:20251102T060000
END:STANDARD
END:VTIMEZONE
BEGIN:VEVENT
DTSTART;TZID=America/New_York:20250724T180000
DTEND;TZID=America/New_York:20250724T180000
DTSTAMP:20260423T173525
CREATED:20250623T030933Z
LAST-MODIFIED:20250623T030933Z
UID:1338-1753380000-1753380000@www.sevendevilsresortclub.com
SUMMARY:Murder Mystery Night
DESCRIPTION:
URL:https://www.sevendevilsresortclub.com/calendar-of-events/murder-mystery-night/
END:VEVENT
BEGIN:VEVENT
DTSTART;TZID=America/New_York:20250726T173000
DTEND;TZID=America/New_York:20250726T173000
DTSTAMP:20260423T173525
CREATED:20250529T043622Z
LAST-MODIFIED:20250623T031032Z
UID:1295-1753551000-1753551000@www.sevendevilsresortclub.com
SUMMARY:Happy New Year
DESCRIPTION:
URL:https://www.sevendevilsresortclub.com/calendar-of-events/halloween/
END:VEVENT
BEGIN:VEVENT
DTSTART;TZID=America/New_York:20250801T183000
DTEND;TZID=America/New_York:20250801T183000
DTSTAMP:20260423T173525
CREATED:20250623T031145Z
LAST-MODIFIED:20250623T031145Z
UID:1342-1754073000-1754073000@www.sevendevilsresortclub.com
SUMMARY:Crossnore Creek- Music by Chip & Christina
DESCRIPTION:
URL:https://www.sevendevilsresortclub.com/calendar-of-events/crossnore-creek-music-by-chip-christina/
END:VEVENT
BEGIN:VEVENT
DTSTART;TZID=America/New_York:20250803T120000
DTEND;TZID=America/New_York:20250803T120000
DTSTAMP:20260423T173525
CREATED:20250529T043651Z
LAST-MODIFIED:20250529T043651Z
UID:1298-1754222400-1754222400@www.sevendevilsresortclub.com
SUMMARY:Brunch
DESCRIPTION:
URL:https://www.sevendevilsresortclub.com/calendar-of-events/brunch-2/
END:VEVENT
BEGIN:VEVENT
DTSTART;TZID=America/New_York:20250809T173000
DTEND;TZID=America/New_York:20250809T173000
DTSTAMP:20260423T173525
CREATED:20250529T043724Z
LAST-MODIFIED:20250529T043724Z
UID:1301-1754760600-1754760600@www.sevendevilsresortclub.com
SUMMARY:Fish Fry
DESCRIPTION:
URL:https://www.sevendevilsresortclub.com/calendar-of-events/fish-fry-2/
END:VEVENT
BEGIN:VEVENT
DTSTART;TZID=America/New_York:20250815T170000
DTEND;TZID=America/New_York:20250815T170000
DTSTAMP:20260423T173525
CREATED:20250529T043806Z
LAST-MODIFIED:20250529T043806Z
UID:1304-1755277200-1755277200@www.sevendevilsresortclub.com
SUMMARY:Poker tournament
DESCRIPTION:Start Time TBD
URL:https://www.sevendevilsresortclub.com/calendar-of-events/poker-tournament/
END:VEVENT
BEGIN:VEVENT
DTSTART;TZID=America/New_York:20250816T173000
DTEND;TZID=America/New_York:20250816T173000
DTSTAMP:20260423T173525
CREATED:20250623T031308Z
LAST-MODIFIED:20250623T031308Z
UID:1348-1755365400-1755365400@www.sevendevilsresortclub.com
SUMMARY:Petrosino's Music Night
DESCRIPTION:
URL:https://www.sevendevilsresortclub.com/calendar-of-events/petrosinos-music-night/
END:VEVENT
BEGIN:VEVENT
DTSTART;TZID=America/New_York:20250823T173000
DTEND;TZID=America/New_York:20250823T173000
DTSTAMP:20260423T173525
CREATED:20250529T043837Z
LAST-MODIFIED:20250529T043837Z
UID:1307-1755970200-1755970200@www.sevendevilsresortclub.com
SUMMARY:Barbecue
DESCRIPTION:
URL:https://www.sevendevilsresortclub.com/calendar-of-events/barbecue-2/
END:VEVENT
BEGIN:VEVENT
DTSTART;TZID=America/New_York:20250831T173000
DTEND;TZID=America/New_York:20250831T173000
DTSTAMP:20260423T173525
CREATED:20250731T193140Z
LAST-MODIFIED:20250731T193241Z
UID:1357-1756661400-1756661400@www.sevendevilsresortclub.com
SUMMARY:Labor Day Dinner
DESCRIPTION:
URL:https://www.sevendevilsresortclub.com/calendar-of-events/labor-day-dinner/
END:VEVENT
BEGIN:VEVENT
DTSTART;TZID=America/New_York:20250906T173000
DTEND;TZID=America/New_York:20250906T173000
DTSTAMP:20260423T173525
CREATED:20250529T043906Z
LAST-MODIFIED:20250623T031407Z
UID:1310-1757179800-1757179800@www.sevendevilsresortclub.com
SUMMARY:Annual Dinner
DESCRIPTION:
URL:https://www.sevendevilsresortclub.com/calendar-of-events/appetizers-on-the-green/
END:VEVENT
BEGIN:VEVENT
DTSTART;TZID=America/New_York:20250913T173000
DTEND;TZID=America/New_York:20250913T173000
DTSTAMP:20260423T173525
CREATED:20250731T200427Z
LAST-MODIFIED:20250731T200427Z
UID:1366-1757784600-1757784600@www.sevendevilsresortclub.com
SUMMARY:Dinner
DESCRIPTION:
URL:https://www.sevendevilsresortclub.com/calendar-of-events/dinner-3/
END:VEVENT
BEGIN:VEVENT
DTSTART;TZID=America/New_York:20250920T173000
DTEND;TZID=America/New_York:20250920T173000
DTSTAMP:20260423T173525
CREATED:20250731T193333Z
LAST-MODIFIED:20250731T193333Z
UID:1360-1758389400-1758389400@www.sevendevilsresortclub.com
SUMMARY:Dinner
DESCRIPTION:
URL:https://www.sevendevilsresortclub.com/calendar-of-events/dinner/
END:VEVENT
BEGIN:VEVENT
DTSTART;TZID=America/New_York:20250921T150000
DTEND;TZID=America/New_York:20250921T170000
DTSTAMP:20260423T173525
CREATED:20250529T044410Z
LAST-MODIFIED:20250529T044410Z
UID:1319-1758466800-1758474000@www.sevendevilsresortclub.com
SUMMARY:Deathtrap
DESCRIPTION:Barter Theater
URL:https://www.sevendevilsresortclub.com/calendar-of-events/deathtrap/
END:VEVENT
BEGIN:VEVENT
DTSTART;TZID=America/New_York:20250927T173000
DTEND;TZID=America/New_York:20250927T173000
DTSTAMP:20260423T173525
CREATED:20250731T193357Z
LAST-MODIFIED:20250731T193357Z
UID:1363-1758994200-1758994200@www.sevendevilsresortclub.com
SUMMARY:Dinner
DESCRIPTION:
URL:https://www.sevendevilsresortclub.com/calendar-of-events/dinner-2/
END:VEVENT
BEGIN:VEVENT
DTSTART;TZID=America/New_York:20251004T173000
DTEND;TZID=America/New_York:20251004T173000
DTSTAMP:20260423T173525
CREATED:20250529T043934Z
LAST-MODIFIED:20250529T043934Z
UID:1313-1759599000-1759599000@www.sevendevilsresortclub.com
SUMMARY:Soup and Salad
DESCRIPTION:
URL:https://www.sevendevilsresortclub.com/calendar-of-events/soup-and-salad/
END:VEVENT
BEGIN:VEVENT
DTSTART;TZID=America/New_York:20251011T173000
DTEND;TZID=America/New_York:20251011T173000
DTSTAMP:20260423T173525
CREATED:20250529T044004Z
LAST-MODIFIED:20250529T044004Z
UID:1316-1760203800-1760203800@www.sevendevilsresortclub.com
SUMMARY:Closing Potluck
DESCRIPTION:
URL:https://www.sevendevilsresortclub.com/calendar-of-events/closing-potluck/
END:VEVENT
END:VCALENDAR